-0.00000000000000
-0.09000000000000
-0.09000000000000
0.00000000000000
678289.67429001839000
267515.17704086978000
