-0.00000000000000
-0.09000000000000
-0.09000000000000
0.00000000000000
678310.67429001839000
271299.17704086978000
