0.00000000000000
0.09000000000000
0.09000000000000
-0.00000000000000
675421.32570998161000
254967.82295913019000
