0.00000000000000
0.09000000000000
0.09000000000000
-0.00000000000000
675423.32570998161000
258220.82295913019000
