0.00000000000000
0.09000000000000
0.09000000000000
-0.00000000000000
675413.32570998161000
259535.82295913019000
