0.00000000000000
0.09000000000000
0.09000000000000
-0.00000000000000
675431.32570998161000
262063.82295913019000
