0.00000000000000
0.09000000000000
0.09000000000000
-0.00000000000000
675447.32570998161000
269440.82295913022000
