-0.00000000000000
-0.09000000000000
-0.09000000000000
0.00000000000000
676032.67429001839000
259101.17704086981000
