-0.00000000000000
-0.09000000000000
-0.09000000000000
0.00000000000000
676032.67429001839000
266030.17704086978000
