-0.00000000000000
-0.09000000000000
-0.09000000000000
0.00000000000000
676052.67429001839000
268559.17704086978000
