0.00000000000000
0.09000000000000
0.09000000000000
-0.00000000000000
673273.32570998161000
266345.82295913022000
