0.00000000000000
0.09000000000000
0.09000000000000
-0.00000000000000
673287.32570998161000
267692.82295913022000
