0.00000000000000
0.09000000000000
0.09000000000000
-0.00000000000000
673281.32570998161000
268363.82295913022000
