-0.00000000000000
-0.09000000000000
-0.09000000000000
0.00000000000000
673884.67429001839000
254933.17704086981000
