-0.00000000000000
-0.09000000000000
-0.09000000000000
0.00000000000000
673900.67429001839000
259140.17704086981000
