-0.00000000000000
-0.09000000000000
-0.09000000000000
0.00000000000000
673910.67429001839000
262668.17704086978000
