-0.00000000000000
-0.09000000000000
-0.09000000000000
0.00000000000000
673906.67429001839000
265506.17704086978000
