0.00000000000000
0.09000000000000
0.09000000000000
-0.00000000000000
671019.32570998161000
258923.82295913019000
