-0.00000000000000
-0.09000000000000
-0.09000000000000
0.00000000000000
671673.67429001839000
256079.17704086981000
