-0.00000000000000
-0.09000000000000
-0.09000000000000
0.00000000000000
671695.67429001839000
262235.17704086978000
