-0.00000000000000
-0.09000000000000
-0.09000000000000
0.00000000000000
671703.67429001839000
262876.17704086978000
