-0.00000000000000
-0.09000000000000
-0.09000000000000
0.00000000000000
671699.67429001839000
263533.17704086978000
