0.00000000000000
0.09000000000000
0.09000000000000
-0.00000000000000
668881.32570998161000
262236.82295913022000
