0.00000000000000
0.09000000000000
0.09000000000000
-0.00000000000000
688659.32570998161000
226036.82295913019000
