0.00000000000000
0.09000000000000
0.09000000000000
-0.00000000000000
688655.32570998161000
227199.82295913019000
