-0.00000000000000
-0.09000000000000
-0.09000000000000
0.00000000000000
690381.67429001839000
234199.17704086981000
