-0.00000000000000
-0.09000000000000
-0.09000000000000
0.00000000000000
690371.67429001839000
236612.17704086981000
