0.00000000000000
0.09000000000000
0.09000000000000
-0.00000000000000
688624.32570998161000
239411.82295913019000
