0.00000000000000
0.09000000000000
0.09000000000000
-0.00000000000000
688616.32570998161000
240615.82295913019000
