0.00000000000000
0.09000000000000
0.09000000000000
-0.00000000000000
688622.32570998161000
245650.82295913019000
