-0.00000000000000
-0.09000000000000
-0.09000000000000
0.00000000000000
689297.67429001839000
229148.17704086981000
