-0.00000000000000
-0.09000000000000
-0.09000000000000
0.00000000000000
689277.67429001839000
231006.17704086981000
