-0.00000000000000
-0.09000000000000
-0.09000000000000
0.00000000000000
689273.67429001839000
231621.17704086981000
