0.00000000000000
0.09000000000000
0.09000000000000
-0.00000000000000
687538.32570998161000
234031.82295913019000
