0.00000000000000
0.09000000000000
0.09000000000000
-0.00000000000000
687534.32570998161000
234479.82295913019000
