0.00000000000000
0.09000000000000
0.09000000000000
-0.00000000000000
687530.32570998161000
238877.82295913019000
