-0.00000000000000
-0.09000000000000
-0.09000000000000
0.00000000000000
689250.67429001839000
241824.17704086981000
