-0.00000000000000
-0.09000000000000
-0.09000000000000
0.00000000000000
689261.67429001839000
242424.17704086981000
