-0.00000000000000
-0.09000000000000
-0.09000000000000
0.00000000000000
689269.67429001839000
248587.17704086981000
