-0.00000000000000
-0.09000000000000
-0.09000000000000
0.00000000000000
689309.67429001839000
251401.17704086981000
