0.00000000000000
0.09000000000000
0.09000000000000
-0.00000000000000
686427.32570998161000
229645.82295913019000
