0.00000000000000
0.09000000000000
0.09000000000000
-0.00000000000000
686431.32570998161000
230848.82295913019000
