-0.00000000000000
-0.09000000000000
-0.09000000000000
0.00000000000000
688150.67429001839000
240912.17704086981000
