-0.00000000000000
-0.09000000000000
-0.09000000000000
0.00000000000000
688162.67429001839000
241551.17704086981000
