-0.00000000000000
-0.09000000000000
-0.09000000000000
0.00000000000000
688154.67429001839000
243396.17704086981000
