0.00000000000000
0.09000000000000
0.09000000000000
-0.00000000000000
686415.32570998161000
244199.82295913019000
