0.00000000000000
0.09000000000000
0.09000000000000
-0.00000000000000
686423.32570998161000
244897.82295913019000
