0.00000000000000
0.09000000000000
0.09000000000000
-0.00000000000000
686448.32570998161000
248520.82295913019000
