-0.00000000000000
-0.09000000000000
-0.09000000000000
0.00000000000000
687088.67429001839000
230217.17704086981000
