-0.00000000000000
-0.09000000000000
-0.09000000000000
0.00000000000000
687087.67429001839000
232994.17704086981000
